BEGIN:VCALENDAR
VERSION:2.0
PRODID:spatie/icalendar-generator
DESCRIPTION:Events from Career Center
X-WR-CALDESC:Events from Career Center
REFRESH-INTERVAL;VALUE=DURATION:PT1440M
X-PUBLISHED-TTL:PT1440M
BEGIN:VTIMEZONE
TZID:America/Los_Angeles
BEGIN:STANDARD
DTSTART:20241103T020000Z
TZOFFSETFROM:-0700
TZOFFSETTO:-0800
END:STANDARD
BEGIN:DAYLIGHT
DTSTART:20250309T020000Z
TZOFFSETFROM:-0800
TZOFFSETTO:-0700
END:DAYLIGHT
END:VTIMEZONE
BEGIN:VTIMEZONE
TZID:UTC
BEGIN:STANDARD
DTSTART:20250724T105436Z
TZOFFSETFROM:+0000
TZOFFSETTO:+0000
END:STANDARD
END:VTIMEZONE
BEGIN:VEVENT
UID:466-402
DTSTAMP:20260420T105436Z
SUMMARY:Resume Review Day (Prepare for the Job Fair) *In-person*
LOCATION:
ORGANIZER;CN=rkhan:MAILTO:RKhan@fullcoll.edu
DTSTART;TZID=America/Los_Angeles:20250408T120000
DTEND;TZID=America/Los_Angeles:20250408T140000
X-ALT-DESC;FMTTYPE=TEXT/HTML:Are you excited about attending the Spring 202
 5 Job Fairs? Need a second pair of eyes to review your resume? Career Cent
 er staff will be reviewing and helping you polish your resumes in person. 
 Make sure to bring a copy of your resume so that we can provide you with t
 he feedback that you need&amp;hellip\;
CATEGORIES:Career Readiness
URL;VALUE=URI:https://careercenter.fullcoll.edu/calendar/resume-review-day-
 prepare-for-the-job-fair-in-person/
METHOD:PUBLISH
END:VEVENT
END:VCALENDAR