BEGIN:VCALENDAR
VERSION:2.0
PRODID:spatie/icalendar-generator
DESCRIPTION:Events from Career Center
X-WR-CALDESC:Events from Career Center
REFRESH-INTERVAL;VALUE=DURATION:PT1440M
X-PUBLISHED-TTL:PT1440M
BEGIN:VTIMEZONE
TZID:America/Los_Angeles
BEGIN:DAYLIGHT
DTSTART:20220313T020000Z
TZOFFSETFROM:-0800
TZOFFSETTO:-0700
END:DAYLIGHT
BEGIN:STANDARD
DTSTART:20221106T020000Z
TZOFFSETFROM:-0700
TZOFFSETTO:-0800
END:STANDARD
BEGIN:DAYLIGHT
DTSTART:20230312T020000Z
TZOFFSETFROM:-0800
TZOFFSETTO:-0700
END:DAYLIGHT
END:VTIMEZONE
BEGIN:VTIMEZONE
TZID:UTC
BEGIN:STANDARD
DTSTART:20250724T093841Z
TZOFFSETFROM:+0000
TZOFFSETTO:+0000
END:STANDARD
END:VTIMEZONE
BEGIN:VEVENT
UID:343-308
DTSTAMP:20260420T093841Z
SUMMARY:Career Education Program Information Session
LOCATION:
ORGANIZER;CN=jcirrito:MAILTO:JCirrito@fullcoll.edu
DTSTART;TZID=America/Los_Angeles:20221025T150000
DTEND;TZID=America/Los_Angeles:20221025T160000
X-ALT-DESC;FMTTYPE=TEXT/HTML:Career Education programs are designed to give
  students the skills needed to enter the workforce immediately after their
  training. This workshop will provide an overview of the exciting options 
 available to you at Fullerton College. Are you career ready? To register\,
  click the link.
CATEGORIES:Career Technical Education
URL;VALUE=URI:https://careercenter.fullcoll.edu/calendar/career-education-p
 rogram-information-session/
METHOD:PUBLISH
END:VEVENT
END:VCALENDAR